BEGIN:VCALENDAR
VERSION:2.0
PRODID:-//The Paddocks Hotel - ECPv6.3.1//NONSGML v1.0//EN
CALSCALE:GREGORIAN
METHOD:PUBLISH
X-ORIGINAL-URL:https://paddockshotel.com
X-WR-CALDESC:Events for The Paddocks Hotel
REFRESH-INTERVAL;VALUE=DURATION:PT1H
X-Robots-Tag:noindex
X-PUBLISHED-TTL:PT1H
BEGIN:VTIMEZONE
TZID:UTC
BEGIN:STANDARD
TZOFFSETFROM:+0000
TZOFFSETTO:+0000
TZNAME:UTC
DTSTART:20250101T000000
END:STANDARD
END:VTIMEZONE
BEGIN:VEVENT
DTSTART;TZID=UTC:20250602T120000
DTEND;TZID=UTC:20250606T110000
DTSTAMP:20260423T200847
CREATED:20250207T110603Z
LAST-MODIFIED:20250207T130705Z
UID:2413-1748865600-1749207600@paddockshotel.com
SUMMARY:Alfa Travel Coach Tour
DESCRIPTION:A week’s stay in the beautiful Wye Valley. \nVisit http://www.alfatravel.co.uk for more information
URL:https://paddockshotel.com/event/alfa-travel-coach-tour-2/
LOCATION:The Paddocks Hotel
CATEGORIES:Coach Tour
END:VEVENT
BEGIN:VEVENT
DTSTART;TZID=UTC:20250623T120000
DTEND;TZID=UTC:20250627T110000
DTSTAMP:20260423T200847
CREATED:20250207T110714Z
LAST-MODIFIED:20250207T130141Z
UID:2415-1750680000-1751022000@paddockshotel.com
SUMMARY:Alfa Travel Coach Tour
DESCRIPTION:A week’s stay in the beautiful Wye Valley. \nVisit http://www.alfatravel.co.uk for more information
URL:https://paddockshotel.com/event/alfa-travel-coach-tour-3/
LOCATION:The Paddocks Hotel
CATEGORIES:Coach Tour
END:VEVENT
END:VCALENDAR